BEGIN:VCALENDAR
VERSION:2.0
PRODID:-//pretix//pretix.eu//
BEGIN:VTIMEZONE
TZID:Europe/Berlin
BEGIN:STANDARD
DTSTART:20001029T040000
RRULE:FREQ=YEARLY;BYDAY=-1SU;BYMONTH=10
TZNAME:CET
TZOFFSETFROM:+0200
TZOFFSETTO:+0100
END:STANDARD
BEGIN:DAYLIGHT
DTSTART:20000326T030000
RRULE:FREQ=YEARLY;BYDAY=-1SU;BYMONTH=3
TZNAME:CEST
TZOFFSETFROM:+0100
TZOFFSETTO:+0200
END:DAYLIGHT
END:VTIMEZONE
BEGIN:VEVENT
UID:pretix-SEIYOKUOffical-AFW-oziWS25-0@secretshop.seiyoku.org
DTSTART;TZID=Europe/Berlin:20250918T193000
DTEND;TZID=Europe/Berlin:20250919T013000
DESCRIPTION:Tickets: https://secretshop.seiyoku.org/AFW-oziWS25/\nEinlass: 
 18.09.2025 19:30\nVeranstalter: SEIYOKU
DTSTAMP:20260420T030828Z
LOCATION:die KRAKE\, Reichenbachstraße 22\, 80469 München
SUMMARY:AFTERWORK MEET&GREET -WIESNSPECIAL o´zapft is
END:VEVENT
END:VCALENDAR
